BEGIN:VCALENDAR
VERSION:2.0
PRODID:icalendar-ruby
CALSCALE:GREGORIAN
METHOD:PUBLISH
BEGIN:VEVENT
DTSTAMP:20260422T102803Z
UID:5-636326@jubileecity.tithelysetup5.com
DTSTART:20260913T173000Z
DTEND:20260913T203000Z
CLASS:PUBLIC
CREATED:20260421T180209
DESCRIPTION:Sunday Worship
LAST-MODIFIED:20260421T180209
LOCATION:
SUMMARY:Sunday Worship
URL;VALUE=URI:https://www.jubileecity.org/events/sunday-worship/2026-09-13
END:VEVENT
END:VCALENDAR
