BEGIN:VCALENDAR
VERSION:2.0
PRODID:icalendar-ruby
CALSCALE:GREGORIAN
METHOD:PUBLISH
BEGIN:VEVENT
DTSTAMP:20260422T133330Z
UID:5-636789@jubileecity.tithelysetup5.com
DTSTART:20260927T173000Z
DTEND:20260927T203000Z
CLASS:PUBLIC
CREATED:20260422T050709
DESCRIPTION:Sunday Worship
LAST-MODIFIED:20260422T050709
LOCATION:
SUMMARY:Sunday Worship
URL;VALUE=URI:https://www.jubileecity.org/events/sunday-worship/2026-09-27
END:VEVENT
END:VCALENDAR
