BEGIN:VCALENDAR
VERSION:2.0
PRODID:icalendar-ruby
CALSCALE:GREGORIAN
METHOD:PUBLISH
BEGIN:VEVENT
DTSTAMP:20260422T181219Z
UID:5-637714@jubileecity.tithelysetup5.com
DTSTART:20261018T173000Z
DTEND:20261018T203000Z
CLASS:PUBLIC
CREATED:20260422T105716
DESCRIPTION:Sunday Worship
LAST-MODIFIED:20260422T105716
LOCATION:
SUMMARY:Sunday Worship
URL;VALUE=URI:https://www.jubileecity.org/events/sunday-worship/2026-10-18
END:VEVENT
END:VCALENDAR
